BEGIN:VCALENDAR
VERSION:2.0
PRODID:-//Naad Studios - ECPv6.15.3//NONSGML v1.0//EN
CALSCALE:GREGORIAN
METHOD:PUBLISH
X-WR-CALNAME:Naad Studios
X-ORIGINAL-URL:https://thenaadstudios.com
X-WR-CALDESC:Events for Naad Studios
REFRESH-INTERVAL;VALUE=DURATION:PT1H
X-Robots-Tag:noindex
X-PUBLISHED-TTL:PT1H
BEGIN:VTIMEZONE
TZID:UTC
BEGIN:STANDARD
TZOFFSETFROM:+0000
TZOFFSETTO:+0000
TZNAME:UTC
DTSTART:20160101T000000
END:STANDARD
END:VTIMEZONE
BEGIN:VEVENT
DTSTART;TZID=UTC:20180618T190000
DTEND;TZID=UTC:20180618T200000
DTSTAMP:20260425T202001
CREATED:20180407T070029Z
LAST-MODIFIED:20180410T023616Z
UID:2023-1529348400-1529352000@thenaadstudios.com
SUMMARY:Summer Folk Dance Class_Ages 8-10 yrs
DESCRIPTION:Summer is almost here! Once more we are ready with our awaited Summer dance classes. \nWe are very excited to announce our new folk dance classes for all ages during this Summer! In this classes\, students will be introduced to the original Indian Folk dance steps/music\, body coordination with props\, while learning choreographies. Students will have fun dancing while learning to appreciate Indian Folk dance art. \n Registration is now open. Please follow below link to register. \nRegistration: \nPlease visit this link https://goo.gl/forms/BL0r7qolmnZSNsU03 to register and complete the registration process for each student prior to class commencement. \n Class & Fees: \nThe Folk class will run every Monday from 7 pm to 8 pm at the Black Mountain location(next to Shree Mandir). This session (10 classes) will start from 18th Jun 2018 and will end on 27th Aug 2018. \nPlease note there will be no class on Monday\, 2nd July 2018. \nFees are $20/class. fees are to be paid per session and is due on the first day of class the class. Annual registration fee $ 20 is to be paid along with the class fees. Total fees $200(10 classes)+$20(registration fees for new students) = $220 is due on the first day of the class. Please note that costume rental fees are not included in this fees. \nDress code: \nAll students are required to wear black leggings\, Indian Kurta with Chunni(scarf) to class. Strictly NO SKIRTS\, SHORTS\, JEANS\, TANK TOPS ARE ALLOWED IN CLASS. \nPlease note: \n\nYearly/ new registration fees are $20/family.\nFees are due on the first class of the month. If you are late to pay please add $25 late charge with your fees.\nFees will not be prorated for missing any new sessions/class.\nIt is each student/member’s responsibility to attend all scheduled classes. No refunds will be given for any classes missed.\nNo refunds will be given for classes missed by the students.\nPlease make sure every student has a water bottle with them.\n\nFor any queries or require any further information/questions with regards to this class please do not hesitate to email or contact us on 858-231-6484.
URL:https://thenaadstudios.com/event/summer-folk-dance-class_ages-8-yrs-10-yrs/
LOCATION:CA
CATEGORIES:Bharatanatyam,Bollywood,Events,Folk,Kathak
END:VEVENT
BEGIN:VEVENT
DTSTART;TZID=UTC:20180618T180000
DTEND;TZID=UTC:20180618T180000
DTSTAMP:20260425T202001
CREATED:20180407T063402Z
LAST-MODIFIED:20180507T065140Z
UID:2019-1529344800-1529344800@thenaadstudios.com
SUMMARY:Summer Folk Dance Class_Ages 6/7 yrs
DESCRIPTION:Summer is almost here! Once more we are ready with our awaited Summer dance classes. \nWe are very excited to announce our new folk dance classes for all ages during this Summer! In this classes\, students will be introduced to the original Indian Folk dance steps/music\, body coordination with props\, while learning choreographies. Students will have fun dancing while learning to appreciate Indian Folk dance art. \nRegistration is now open. Please follow below link to register. \nRegistration: \nPlease visit this link https://goo.gl/forms/BL0r7qolmnZSNsU03 to register and complete the registration process for each student prior to class commencement. \nClass & Fees: \nThe Folk class will run every Monday from 6 pm to 7 pm at the Black Mountain location(next to Shree Mandir). This session (10 classes) will start from 18th Jun 2018 and will end on 27th Aug 2018. \nPlease note there will be no class on Monday\, 2nd July 2018. \nFees are $20/class. fees are to be paid per session and is due on the first day of class the class. Annual registration fee $ 20 is to be paid along with the class fees. Total fees $200(10 classes)+$20(registration fees for new students) = $220 is due on the first day of the class. Please note that costume rental fees are not included in this fees. \nDress code: \n All students are required to wear black leggings\, Indian Kurta with Chunni(scarf) to class. Strictly NO SKIRTS\, SHORTS\, JEANS\, TANK TOPS ARE ALLOWED IN CLASS. \nPlease note: \n\nYearly/ new registration fees are $20/family.\nFees are due on the first class of the month. If you are late to pay please add $25 late charge with your fees.\nFees will not be prorated for missing any new sessions/class.\nIt is each student/member’s responsibility to attend all scheduled classes. No refunds will be given for any classes missed.\nNo refunds will be given for classes missed by the students.\nPlease make sure every student has a water bottle with them.\n\nFor any queries or require any further information/questions with regards to this class please do not hesitate to email or contact us on 858-231-6484.
URL:https://thenaadstudios.com/event/summer-folk-dance-class_ages-6-yrs-8-yrs/
LOCATION:CA
CATEGORIES:Bharatanatyam,Bollywood,Events,Folk,Kathak
END:VEVENT
BEGIN:VEVENT
DTSTART;TZID=UTC:20180616T091500
DTEND;TZID=UTC:20180922T100000
DTSTAMP:20260425T202001
CREATED:20180220T004306Z
LAST-MODIFIED:20180507T073027Z
UID:1927-1529140500-1537610400@thenaadstudios.com
SUMMARY:Intro to Indian classical dance class for toddlers_2nd Session
DESCRIPTION:  \nWe are very happy to continue to the second session of toddler class!  “Introduction to Indian classical dance class for toddlers” age group 3 yrs to 5 yrs\, will start from Saturday\, 16th June 2018 to 25th Aug 2018(10 classes)\n\nIn this class children will be introduced to the basics of Indian classical dance including mudras/basic dance skills for Indian classical dance\, using coordinated body movements to tell Indian mythological stories/poems/shlokas. Children will have fun dancing while learning to appreciate Indian classical music.\n\n\n\n\nRegistration:\nPlease visit this link https://goo.gl/forms/BL0r7qolmnZSNsU03 to register and complete the registration process for each student prior to class commencement\n\nClass:\n\n\n\n\nThe class runs every Saturday at 9:15 am to 10 am at the Black Mountain location(next to Shree Mandir). This is 10 classes a session starting from Saturday\, 16th June 2018 to 25th Aug 2018(10 classes).  Please note there will be no class on Saturday\, 7th July 2018.\n\n\n\n\nFees:\nFees are $20/class. fees are to be paid monthly and is due on the first day of class each month. Annual registration fee $ 20 is to be paid along with the class fees. \n\n\nTotal fees $200(10 classes)+$20(registration fees) = $220 is due on the first day of the class.\n\n\nDress code:\nAll students are required to wear black leggings\, white t-shirt to class. Strictly NO SKIRTS\, SHORTS\, JEANS\, TANK TOPS ARE ALLOWED IN CLASS. \n\nPlease note:  \n\nYearly/ new registration fees are $20/family.\nFees are due on a monthly basis on the first class of the month. If you are late to pay please add $25 late charge with your fees.\nFees will not be prorated for missing any new sessions/class.  No refunds.\nIt is each student/member’s responsibility to attend all scheduled classes.\nPlease make sure every student has a water bottle with them.\n\nFor any queries or require any further information/questions with regards to this class please do not hesitate to email or contact us on 858-231-6484.
URL:https://thenaadstudios.com/event/indian-classical-dance-class-for-toddlers_new-session/
LOCATION:CA
CATEGORIES:Bharatanatyam,Bollywood,Events,Folk,Kathak
END:VEVENT
BEGIN:VEVENT
DTSTART;TZID=UTC:20180603T000000
DTEND;TZID=UTC:20180603T000000
DTSTAMP:20260425T202001
CREATED:20180520T061525Z
LAST-MODIFIED:20180520T063633Z
UID:2206-1527984000-1527984000@thenaadstudios.com
SUMMARY:A big announcement_NAAD STUDIOS  in Rancho Bernardo/4S
DESCRIPTION:Now Open! 2nd location in RB/4S\n11611 Rancho Bernardo Road\, Suite # 104\, San Diego\, CA 92127\nOffering Bharatnatyam and Kathak classes for all ages starting from 3rd June!\n For information:  \nEmail: info@thenaadstudios.com / Call: (858)231-6484 \n\nWe proudly present our second location of  NAAD STUDIOS  in Rancho Bernardo/4S which will enable us to expand our dance program beyond the bursting walls of our current location. Enlarging our capacity opens up a lot of new and exciting opportunities for all of us.\n\nIt’s our hope that we’ll be in a position to bring dance and music under one roof in a much larger. We’re so excited!!\n\nThis expansion wouldn’t be possible without the love\, loyalty\, and dedication of our beloved students and parents. Thank you for coming alongside us and believing in our vision to empower students of all ages to reach their greatest potential through the study of dance.\n\nWithout you\, NAAD STUDIOS would just be a building full of mentors with no one to teach and train. Because of you\, we are a living\, (rapidly) growing community of next-generation dancers. We know that you have ample dance options\, but we are honored that you have entrusted NAAD STUDIOS with your talents.\n\n\nThank you so much for your trust in us and support.
URL:https://thenaadstudios.com/event/a-big-announcement_naad-studios-in-rancho-bernardo-4s/
LOCATION:RB/4S_Naad Studios\, 11611 Rancho Bernardo Road #104\, SAN DIEGO\, CA\, 92127\, United States
CATEGORIES:Bharatanatyam,Bollywood,Events,Folk,Kathak
END:VEVENT
BEGIN:VEVENT
DTSTART;TZID=UTC:20180510T190000
DTEND;TZID=UTC:20180510T190000
DTSTAMP:20260425T202001
CREATED:20180507T064222Z
LAST-MODIFIED:20180507T073230Z
UID:2186-1525978800-1525978800@thenaadstudios.com
SUMMARY:Bollywood/Freestyle Dance Class_Ages 13 & above
DESCRIPTION:Our awaited Bollywood class are starting again!\n\n\nWe are very excited to announce our Bollywood dance classes for all ages during this Summer! In this classes\, students will be learning total body coordination\, use of props\, presentation/stage techniques while gaining the self-confidence\, dance to different beats while learning different choreographies!\n\n\n\nRegistration is now open. Please follow below link to register.\n\n\nRegistration:\n\n\nPlease visit this link https://goo.gl/forms/BL0r7qolmnZSNsU03 to register and complete the registration process for each student prior to class commencement \n Class & Fees: \nThe Bollywood/Freestyle dance class for ages will run every Thursday from 7 pm to 8 pm at the Black Mountain location(next to Shree Mandir). This session (14 classes) will start from 10th May 2018 and will end on 9th Aug 2018. \n\n\n\n\n\nPlease note there will be no class on 28th May(memorial day weekend).\n\n\n\n\nFees are $20/class. fees are to be paid per session and is due on the first day of class the class. Annual registration fee $ 20 is to be paid along with the class fees. Total fees $280(14 classes)+$20(registration fees for new students) = $300 is due on the first day of the class. Please note that costume rental fees are not included in this fees.\n\nDress code: \n\n\nAll students are required to wear black leggings\, Indian Kurta with Chunni(scarf) to class. Strictly NO SKIRTS\, SHORTS\, JEANS\, TANK TOPS ARE ALLOWED IN CLASS.  \nPlease note:  \n\nYearly registration fees are $20/family.\nFees are due on the first class of the month. If you are late to pay please add $25 late charge with your fees.\nFees will not be prorated for missing any new sessions/class.\nIt is each student/member’s responsibility to attend all scheduled classes. No refunds will be given for any classes missed. \nNo refunds will be given for classes missed by the students. \nPlease make sure every student has a water bottle with them.\n\nFor any queries or require any further information/questions with regards to this class please do not hesitate to email or contact us on 858-231-6484.
URL:https://thenaadstudios.com/event/bollywood-freestyle-dance-class_ages-13-above/
LOCATION:CA
CATEGORIES:Bharatanatyam,Bollywood,Events,Folk,Kathak
END:VEVENT
BEGIN:VEVENT
DTSTART;TZID=UTC:20160821T163000
DTEND;TZID=UTC:20160821T220000
DTSTAMP:20260425T202001
CREATED:20161115T080642Z
LAST-MODIFIED:20161227T181729Z
UID:660-1471797000-1471816800@thenaadstudios.com
SUMMARY:"Rang-Manch" - A Bollywood Dance Theatre Production!
DESCRIPTION:Join us to experience Bollywood in total! Come watch our Bollywood dance theatre production\, enjoy all aspects of “DRAMA” choreographed by our talented team @ NAAD! Performed by students of “NAAD”. You don’t want to miss it!
URL:https://thenaadstudios.com/event/rang-manch-bollywood-dance-theatre-production/
LOCATION:Creative Media Performing Arts Middle school\, 5050 Conrad Avenue\, San Diego\, CA\, 92117\, United States
CATEGORIES:Bollywood,Events
ATTACH;FMTTYPE=image/jpeg:https://thenaadstudios.com/wp-content/uploads/2016/11/13710658_1148281625209955_2469337858880241702_o.jpg
ORGANIZER;CN="":MAILTO:info@thenaadstudios.com
END:VEVENT
BEGIN:VEVENT
DTSTART;TZID=UTC:20160409T090000
DTEND;TZID=UTC:20160409T190000
DTSTAMP:20260425T202001
CREATED:20161115T165918Z
LAST-MODIFIED:20161227T181736Z
UID:671-1460192400-1460228400@thenaadstudios.com
SUMMARY:SAROJ KHAN Workshop in San Diego
DESCRIPTION:Please register at www.thenaadstudios.com for the Bollywood workshop By Saroj ji to confirm your spot. Please stop by at Naad Studios(Next to the Shri Mandir) on Sunday\, 3rd April between 2 pm to 4 pm to pay your fees for the workshop. If you have registered and not paid the fees by Sunday\, 3rd April\, your admission will not considered as confirmed. Fees can be paid by cash or check. \nWe are very excited to announce that Master Saroj Khan has gracefully accepted for Meet & Greet / Q&A hours for San Diego community on Saturday\, 9th April from 5:30 pm – 7:00 pm at Naad Studios (next to Shri Mandir) where community will be able to meet her in person and take picture with her. It is a free event for San Diego community. This event will start sharp on time and end on time.
URL:https://thenaadstudios.com/event/saroj-khan-workshop-san-diego/
LOCATION:Naad Studios\, 9474 Black Mountain Rd\, San Diego\, CA\, 92126\, United States
CATEGORIES:Bollywood,Events
ATTACH;FMTTYPE=image/jpeg:https://thenaadstudios.com/wp-content/uploads/2016/11/12473564_1074489619255823_6551502787229118155_o.jpg
END:VEVENT
END:VCALENDAR